BEGIN:VCALENDAR
VERSION:2.0
METHOD:PUBLISH
PRODID:-//hacksw/handcal//NONSGML v1.0//EN
BEGIN:VEVENT
DTSTAMP:20260424T222245Z
DTSTART:20230809T150000Z
DTEND:20230809T163000Z
UID:20230809T150000Z-20230809T163000Z-142@hasseldieksdamm.de
SUMMARY:Offenes Singen im Servicehaus
DESCRIPTION:Gerda Blochwitz lädt ein zum gemeinsamen Singen.\n\nGäste 
 sind herzlich willkommen
X-ALT-DESC;FMTTYPE=text/html:<p>Gerda Blochwitz lädt ein zum gemeinsam
 en Singen.</p>\n<p>Gäste sind herzlich willkommen</p>\n
URL:https://hasseldieksdamm.de/kalender/offenes-singen-im-servicehaus-
 3/?lang=de
ATTACH:https://hasseldieksdamm.de/kalender/offenes-singen-im-serviceha
 us-3/?lang=de
LOCATION:AWO Servicehaus\, Am Wohld 1\, Kiel
END:VEVENT
END:VCALENDAR
