BEGIN:VCALENDAR
VERSION:2.0
METHOD:PUBLISH
PRODID:-//hacksw/handcal//NONSGML v1.0//EN
BEGIN:VEVENT
DTSTAMP:20260424T102252Z
DTSTART:20231108T180000Z
DTEND:20231108T200000Z
UID:20231108T180000Z-20231108T200000Z-174@hasseldieksdamm.de
SUMMARY:offener Nabu Abend    Wespen und Hornissen
DESCRIPTION:
X-ALT-DESC;FMTTYPE=text/html:
URL:https://hasseldieksdamm.de/kalender/offener-nabu-abend-wespen-und-
 hornissen/?lang=de
ATTACH:https://hasseldieksdamm.de/kalender/offener-nabu-abend-wespen-u
 nd-hornissen/?lang=de
LOCATION:Hof Kollhorst\, Kollhorster Weg 1\, Kiel
END:VEVENT
END:VCALENDAR
