BEGIN:VCALENDAR
VERSION:2.0
METHOD:PUBLISH
PRODID:-//hacksw/handcal//NONSGML v1.0//EN
BEGIN:VEVENT
DTSTAMP:20260421T083820Z
DTSTART:20250706T150000Z
DTEND:20250706T170000Z
UID:20250706T150000Z-20250706T170000Z-392@hasseldieksdamm.de
SUMMARY:Lebendiger Sommer bei Familie Schulz-Kokerbeck
DESCRIPTION:Am Sonntag\, den 6.Juli 2025 um 17h freut sich Familie Sch
 ulz-Kokerbeck in der Hofholzallee\n102a über viel liebe Gäste aus der 
 Nachbarschaft mit gefüllten Picknickkörben und\nfröhlicher Stimmung - 
 ein Zelt ist vorhanden!
X-ALT-DESC;FMTTYPE=text/html:<p>Am Sonntag\, den 6.Juli 2025 um 17h fr
 eut sich Familie Schulz-Kokerbeck in der Hofholzallee<br>\n102a über v
 iel liebe Gäste aus der Nachbarschaft mit gefüllten Picknickkörben und
 <br>\nfröhlicher Stimmung &#8211\; ein Zelt ist vorhanden!</p>\n
URL:https://hasseldieksdamm.de/kalender/lebendiger-sommer-bei-familie-
 schulz-kokerbeck/?lang=de
ATTACH:https://hasseldieksdamm.de/kalender/lebendiger-sommer-bei-famil
 ie-schulz-kokerbeck/?lang=de
LOCATION:Familie Schulz Kokerbeck\, Hofholzallee 102\, Kiel
END:VEVENT
END:VCALENDAR
